BEGIN:VCALENDAR
VERSION:2.0
PRODID:-//SNAP Financial Access - ECPv6.14.0//NONSGML v1.0//EN
CALSCALE:GREGORIAN
METHOD:PUBLISH
X-ORIGINAL-URL:https://snapfinancialaccess.org
X-WR-CALDESC:Events for SNAP Financial Access
REFRESH-INTERVAL;VALUE=DURATION:PT1H
X-Robots-Tag:noindex
X-PUBLISHED-TTL:PT1H
BEGIN:VTIMEZONE
TZID:America/Los_Angeles
BEGIN:DAYLIGHT
TZOFFSETFROM:-0800
TZOFFSETTO:-0700
TZNAME:PDT
DTSTART:20220313T100000
END:DAYLIGHT
BEGIN:STANDARD
TZOFFSETFROM:-0700
TZOFFSETTO:-0800
TZNAME:PST
DTSTART:20221106T090000
END:STANDARD
BEGIN:DAYLIGHT
TZOFFSETFROM:-0800
TZOFFSETTO:-0700
TZNAME:PDT
DTSTART:20230312T100000
END:DAYLIGHT
BEGIN:STANDARD
TZOFFSETFROM:-0700
TZOFFSETTO:-0800
TZNAME:PST
DTSTART:20231105T090000
END:STANDARD
END:VTIMEZONE
BEGIN:VEVENT
DTSTART;TZID=America/Los_Angeles:20230808T160000
DTEND;TZID=America/Los_Angeles:20230808T173000
DTSTAMP:20260424T125809
CREATED:20230715T005949Z
LAST-MODIFIED:20230715T005949Z
UID:10000083-1691510400-1691515800@snapfinancialaccess.org
SUMMARY:Basic Accounting Concepts
DESCRIPTION:
URL:https://snapfinancialaccess.org/events/basic-accounting-concepts-3/
END:VEVENT
BEGIN:VEVENT
DTSTART;TZID=America/Los_Angeles:20221103T160000
DTEND;TZID=America/Los_Angeles:20221103T180000
DTSTAMP:20260424T125809
CREATED:20221104T193147Z
LAST-MODIFIED:20221108T202229Z
UID:10000001-1667491200-1667498400@snapfinancialaccess.org
SUMMARY:Your Business Journey: Business Planning to Launch and Grow
DESCRIPTION:This is a multi-part workshop! Once you register for the first session\, we will be following up with the full Zoom invite for your workshop.  \nTickets: Eventbrite  \nWorkshop times:\n \nNov. 17\, 4-6pm\nDec. 1\, 4-6pm\nDec. 8\, 3-7pm\nDec. 15\, 4-6pm \nStarting a business can be a complex and expensive endeavor. One way to control your startup/operating expenses and streamline processes is to use proven tools to help test your idea. In this multiple-part workshop\, we will lead you through the LivePlan business planning tool. This tool teaches you to lean in your idea\, define your customer\, determine your market potential\, and complete a pitch deck to share your idea effectively. Additionally\, LivePlan offers you the ability to take on-demand workshops tailored to each section of your business plan. Market research techniques and resources will be discussed to help you validate your business idea and ultimately prepare to test your concept. After finishing this workshop\, you will have a completed business plan! Along with additional consultation opportunities\, you are likely ready to get your business started! Having your financials\, business plan\, and everything together will be a great asset when applying for funding. \nWe wish to encourage those of low income to contact us as we have special discounts and scholarships available. Contact the WBC for more details. Hansen@snapwa.org or Biviano@snapwa.org \n**Reasonable accommodations for persons with disabilities will be made if requested at least two weeks in advance. Contact Nicolle Hansen by hansen@snapwa.org or by phone at 509-456-7627 ext. 4119. If you do not receive a response within 24 hours please call 509-456-7627 ext. 4100.
URL:https://snapfinancialaccess.org/events/your-business-journey-business-planning-to-launch-and-grow-3/
END:VEVENT
END:VCALENDAR