BEGIN:VCALENDAR
VERSION:2.0
PRODID:-//SNAP Financial Access - ECPv6.14.0//NONSGML v1.0//EN
CALSCALE:GREGORIAN
METHOD:PUBLISH
X-ORIGINAL-URL:https://snapfinancialaccess.org
X-WR-CALDESC:Events for SNAP Financial Access
REFRESH-INTERVAL;VALUE=DURATION:PT1H
X-Robots-Tag:noindex
X-PUBLISHED-TTL:PT1H
BEGIN:VTIMEZONE
TZID:America/Los_Angeles
BEGIN:DAYLIGHT
TZOFFSETFROM:-0800
TZOFFSETTO:-0700
TZNAME:PDT
DTSTART:20250309T100000
END:DAYLIGHT
BEGIN:STANDARD
TZOFFSETFROM:-0700
TZOFFSETTO:-0800
TZNAME:PST
DTSTART:20251102T090000
END:STANDARD
END:VTIMEZONE
BEGIN:VEVENT
DTSTART;TZID=America/Los_Angeles:20250118T090000
DTEND;TZID=America/Los_Angeles:20250118T140000
DTSTAMP:20260424T102058
CREATED:20241209T185458Z
LAST-MODIFIED:20241209T185458Z
UID:10001281-1737190800-1737208800@snapfinancialaccess.org
SUMMARY:Homebuyer Education - * In Person at Moran Prairie Library *
DESCRIPTION:In Homebuyer Education\, you will learn the home purchase process and obtain information on a variety of special programs available to assist first-time buyers. \nDate: Saturday\, January 18\, 2025\nTime: 9:00AM-2:00PM\nLocation: Moran Prairie Library\nAddress: 6004 S. Regal St.\, Spokane\, WA 99223\nNote: Lunch is provided. \nPlease click here to register in advance. \n\nSNAP Housing Counseling programs promote home ownership in the community and assist home buyers in the steps towards home ownership. \n\nTranslation service is not available\, please provide your own translator if needed. No childcare provided. No children under 12 yrs.
URL:https://snapfinancialaccess.org/events/homebuyer-education-in-person-at-moran-prairie-library-8/
LOCATION:Moran Prairie Library\, 6004 S Regal St\, Spokane\, WA\, 99223\, United States
END:VEVENT
BEGIN:VEVENT
DTSTART;TZID=America/Los_Angeles:20250129T180000
DTEND;TZID=America/Los_Angeles:20250129T200000
DTSTAMP:20260424T102058
CREATED:20241209T185651Z
LAST-MODIFIED:20241209T185651Z
UID:10001282-1738173600-1738180800@snapfinancialaccess.org
SUMMARY:Homebuyer Education - * In Person at Spokane Valley Library *
DESCRIPTION:In Homebuyer Education\, you will learn the home purchase process and obtain information on a variety of special programs available to assist first-time buyers. \nDate: Wednesday\, January 29\, 2025 AND Thursday\, January 30\, 2025\nTime: 6:00 PM – 8:00 PM\nLocation: Spokane Valley Library\nAddress: 22 N Herald Rd.\, Spokane\, WA 99206\nNote: Attendance at both nights is required to receive a certificate. \nPlease click here to register in advance. \n\nSNAP Housing Counseling programs promote home ownership in the community and assist home buyers in the steps towards home ownership. \n\nTranslation service is not available\, please provide your own translator if needed. No childcare provided. No children under 12 yrs.
URL:https://snapfinancialaccess.org/events/homebuyer-education-in-person-at-spokane-valley-library-3/
LOCATION:Spokane Valley Library\, 22 North Herald Road\, Spokane Valley\, WA\, 99206\, United States
END:VEVENT
BEGIN:VEVENT
DTSTART;TZID=America/Los_Angeles:20250130T100000
DTEND;TZID=America/Los_Angeles:20250130T120000
DTSTAMP:20260424T102058
CREATED:20241226T182744Z
LAST-MODIFIED:20250107T171327Z
UID:10001288-1738231200-1738238400@snapfinancialaccess.org
SUMMARY:Your Business Journey: Get Started!
DESCRIPTION:Start out on the right foot with a business plan and cash flow projections.\n\n\nAre you thinking about starting a business? Are you looking for ways to grow your business or seeking financing? This is the workshop for you! \nYou will learn about the business support services available through the Women’s Business Center\, how to create an effective business plan\, where to find market research to support your plan\, the importance of developing a cash flow projection\, and more. \nOne-on-One business counseling and additional classes are only available after completion of the Get Started class. \nRegistration is required. This class is available to Spokane County residents only\, please.  \nWant to explore and learn more about your business plan? Check out this resource from the U.S. Small Business Administration https://www.sba.gov/business-guide/plan-your-business/write-your-business-plan \n**Reasonable accommodations for persons with disabilities will be made if requested at least two weeks in advance. Contact Destiny Chambers by destiny.chambers@snapwa.org or by phone at 509-456-7627 ext. 4100. \n  \n 
URL:https://snapfinancialaccess.org/events/your-business-journey-get-started-25/
ATTACH;FMTTYPE=image/jpeg:https://snapfinancialaccess.org/wp-content/uploads/2024/10/d1115f22bd20ac0c3f0a5d90810be781-qYqj3w.tmp_.jpg
END:VEVENT
BEGIN:VEVENT
DTSTART;TZID=America/Los_Angeles:20250130T180000
DTEND;TZID=America/Los_Angeles:20250130T200000
DTSTAMP:20260424T102058
CREATED:20241209T185826Z
LAST-MODIFIED:20241209T185826Z
UID:10001283-1738260000-1738267200@snapfinancialaccess.org
SUMMARY:Homebuyer Education - * In Person at Spokane Valley Library *
DESCRIPTION:In Homebuyer Education\, you will learn the home purchase process and obtain information on a variety of special programs available to assist first-time buyers. \nDate: Wednesday\, January 29\, 2025 AND Thursday\, January 30\, 2025\nTime: 6:00 PM – 8:00 PM\nLocation: Spokane Valley Library\nAddress: 22 N Herald Rd.\, Spokane\, WA 99206\nNote: Attendance at both nights is required to receive a certificate. \nPlease click here to register in advance. \n\nSNAP Housing Counseling programs promote home ownership in the community and assist home buyers in the steps towards home ownership. \n\nTranslation service is not available\, please provide your own translator if needed. No childcare provided. No children under 12 yrs.
URL:https://snapfinancialaccess.org/events/homebuyer-education-in-person-at-spokane-valley-library-4/
LOCATION:Spokane Valley Library\, 22 North Herald Road\, Spokane Valley\, WA\, 99206\, United States
END:VEVENT
BEGIN:VEVENT
DTSTART;TZID=America/Los_Angeles:20250131T100000
DTEND;TZID=America/Los_Angeles:20250131T120000
DTSTAMP:20260424T102058
CREATED:20241226T182921Z
LAST-MODIFIED:20250107T171524Z
UID:10001289-1738317600-1738324800@snapfinancialaccess.org
SUMMARY:Your Business Journey: Funding Your Business
DESCRIPTION:We know you have heard about them: Grants\, Loans\, Investors and Crowdfunding. Register to learn about the world of funding for your business\n\n\nAre you looking for funding to start or grow your business? This is the workshop for you! \nIn this workshop we will review the various types of funding available\, myths and truths\, and take a deep dive into the Five C’s of lending and how the lender uses these items to determine approval or denial of your loan request. We will also discuss the importance of a clear business plan and financial projections and how these two documents tie together. You will leave this workshop with a solid understanding of funding options\, what a lender uses to measure your application\, and how to be prepared for this critical step in the development of your business. \nOne-on-One business counseling is available after completion of this class. \nRegistration is required. This class is available to Spokane County residents only\, please. \nWant to explore and learn more about your business plan? Check out this resource from the U.S. Small Business Administration https://www.sba.gov/business-guide/plan-your-business/write-your-business-plan \n**Reasonable accommodations for persons with disabilities will be made if requested at least two weeks in advance. Contact Destiny Chambers by emailing destiny.chambers@snapwa.org or by phone at 509-456-7627 ext. 4100.
URL:https://snapfinancialaccess.org/events/your-business-journey-funding-your-business-13/
ATTACH;FMTTYPE=image/jpeg:https://snapfinancialaccess.org/wp-content/uploads/2024/10/94f12976bace123e708ef8ee26faa5ae-HzFrDv.tmp_.jpg
END:VEVENT
END:VCALENDAR