BEGIN:VCALENDAR
VERSION:2.0
PRODID:-//SNAP Financial Access - ECPv6.14.0//NONSGML v1.0//EN
CALSCALE:GREGORIAN
METHOD:PUBLISH
X-ORIGINAL-URL:https://snapfinancialaccess.org
X-WR-CALDESC:Events for SNAP Financial Access
REFRESH-INTERVAL;VALUE=DURATION:PT1H
X-Robots-Tag:noindex
X-PUBLISHED-TTL:PT1H
BEGIN:VTIMEZONE
TZID:America/Los_Angeles
BEGIN:DAYLIGHT
TZOFFSETFROM:-0800
TZOFFSETTO:-0700
TZNAME:PDT
DTSTART:20240310T100000
END:DAYLIGHT
BEGIN:STANDARD
TZOFFSETFROM:-0700
TZOFFSETTO:-0800
TZNAME:PST
DTSTART:20241103T090000
END:STANDARD
END:VTIMEZONE
BEGIN:VEVENT
DTSTART;TZID=America/Los_Angeles:20241002T180000
DTEND;TZID=America/Los_Angeles:20241002T200000
DTSTAMP:20260424T142145
CREATED:20240910T212959Z
LAST-MODIFIED:20240910T213607Z
UID:10000535-1727892000-1727899200@snapfinancialaccess.org
SUMMARY:Homebuyer Education - * In Person at Moran Prairie Library *
DESCRIPTION:In Homebuyer Education\, you will learn the home purchase process and obtain information on a variety of special programs available to assist first-time buyers. \nDate: Wednesday\, October 2\, 2024 AND Thursday\, October 3\, 2024\nTime: 6:00 PM – 8:00 PM\nLocation: Moran Prairie Library\nAddress: 6004 S. Regal St.\, Spokane\, WA 99223\nNote: Attendance at both nights is required to receive a certificate. \nPlease click here to register in advance. \n\nSNAP Housing Counseling programs promote home ownership in the community and assist home buyers in the steps towards home ownership. \n\nTranslation service is not available\, please provide your own translator if needed. No childcare provided. No children under 12 yrs.
URL:https://snapfinancialaccess.org/events/homebuyer-education-in-person-at-moran-prairie-library-5/2024-10-02/
END:VEVENT
BEGIN:VEVENT
DTSTART;TZID=America/Los_Angeles:20241003T180000
DTEND;TZID=America/Los_Angeles:20241003T200000
DTSTAMP:20260424T142146
CREATED:20240910T212959Z
LAST-MODIFIED:20240910T213607Z
UID:10000901-1727978400-1727985600@snapfinancialaccess.org
SUMMARY:Homebuyer Education - * In Person at Moran Prairie Library *
DESCRIPTION:In Homebuyer Education\, you will learn the home purchase process and obtain information on a variety of special programs available to assist first-time buyers. \nDate: Wednesday\, October 2\, 2024 AND Thursday\, October 3\, 2024\nTime: 6:00 PM – 8:00 PM\nLocation: Moran Prairie Library\nAddress: 6004 S. Regal St.\, Spokane\, WA 99223\nNote: Attendance at both nights is required to receive a certificate. \nPlease click here to register in advance. \n\nSNAP Housing Counseling programs promote home ownership in the community and assist home buyers in the steps towards home ownership. \n\nTranslation service is not available\, please provide your own translator if needed. No childcare provided. No children under 12 yrs.
URL:https://snapfinancialaccess.org/events/homebuyer-education-in-person-at-moran-prairie-library-5/2024-10-03/
END:VEVENT
BEGIN:VEVENT
DTSTART;TZID=America/Los_Angeles:20241015T100000
DTEND;TZID=America/Los_Angeles:20241015T120000
DTSTAMP:20260424T142146
CREATED:20241009T181633Z
LAST-MODIFIED:20241009T181812Z
UID:10001267-1728986400-1728993600@snapfinancialaccess.org
SUMMARY:Your Business Journey: Get Started!
DESCRIPTION:Start on the right foot with a business plan and cash flow projections.\n\n\nAre you thinking about starting a business? Are you looking for ways to grow your business or seeking financing? This is the workshop for you! \nYou will learn about the business support services available through the Women’s Business Center\, how to create an effective business plan\, where to find market research to support your plan\, the importance of developing a cash flow projection\, and more. \nOne-on-One business counseling and additional classes are only available after completion of the Get Started class. \nRegistration is required. \nWant to explore and learn more about your business plan? Check out this resource from the U.S. Small Business Administration https://www.sba.gov/business-guide/plan-your-business/write-your-business-plan \n**Reasonable accommodations for persons with disabilities will be made if requested at least two weeks in advance. Contact Destiny Chambers by destiny.chambers@snapwa.org or by phone at 509-456-7627 ext. 4100.
URL:https://snapfinancialaccess.org/events/your-business-journey-get-started-22/
ATTACH;FMTTYPE=image/jpeg:https://snapfinancialaccess.org/wp-content/uploads/2024/10/e5a8c50be04c85e68abbdc92728cd260-hK7Ysu.tmp_.jpg
END:VEVENT
BEGIN:VEVENT
DTSTART;TZID=America/Los_Angeles:20241026T090000
DTEND;TZID=America/Los_Angeles:20241026T140000
DTSTAMP:20260424T142146
CREATED:20240910T211842Z
LAST-MODIFIED:20240910T211842Z
UID:10000533-1729933200-1729951200@snapfinancialaccess.org
SUMMARY:Homebuyer Education **In person Spokane Valley Library
DESCRIPTION:In Homebuyer Education\, you will learn the home purchase process and obtain information on a variety of special programs available to assist first-time buyers. \nDate: Saturday\, October 26\, 2024\nTime: 9:00AM-2:00PM\nLocation: Spokane Valley Library\nAddress: 22 N Herald Rd.\, Spokane Valley\, WA 99218\nNote: Lunch is provided. \nPlease click here to register in advance. \n\nSNAP Housing Counseling programs promote home ownership in the community and assist home buyers in the steps towards home ownership. \n\nTranslation service is not available\, please provide your own translator if needed. No childcare provided. No children under 12 yrs.
URL:https://snapfinancialaccess.org/events/homebuyer-education-in-person-spokane-valley-library-2/
END:VEVENT
BEGIN:VEVENT
DTSTART;TZID=America/Los_Angeles:20241029T100000
DTEND;TZID=America/Los_Angeles:20241029T120000
DTSTAMP:20260424T142146
CREATED:20241009T181633Z
LAST-MODIFIED:20241009T181812Z
UID:10001268-1730196000-1730203200@snapfinancialaccess.org
SUMMARY:Your Business Journey: Funding Your Business
DESCRIPTION:We know you have heard about them: Grants\, Loans\, Investors and Crowdfunding. Register to learn about the world of funding for your business\n\n\nAre you looking for funding to start or grow your business? This is the workshop for you! \nIn this workshop we will review the various types of funding available\, myths and truths\, and take a deep dive into the Five C’s of lending and how the lender uses these items to determine approval or denial of your loan request. We will also discuss the importance of a clear business plan and financial projections and how these two documents tie together. You will leave this workshop with a solid understanding of funding options\, what a lender uses to measure your application\, and how to be prepared for this critical step in the development of your business. \nOne-on-One business counseling is available after completion of this class. \nRegistration is required. \nWant to explore and learn more about your business plan? Check out this resource from the U.S. Small Business Administration https://www.sba.gov/business-guide/plan-your-business/write-your-business-plan \n**Reasonable accommodations for persons with disabilities will be made if requested at least two weeks in advance. Contact Destiny Chambers by emailing destiny.chambers@snapwa.org or by phone at 509-456-7627 ext. 4100.
URL:https://snapfinancialaccess.org/events/your-business-journey-funding-your-business-10/
ATTACH;FMTTYPE=image/jpeg:https://snapfinancialaccess.org/wp-content/uploads/2024/10/3d4471186d63f46c8e3b322e1091778d-IEwdF2.tmp_.jpg
END:VEVENT
END:VCALENDAR