BEGIN:VCALENDAR
VERSION:2.0
PRODID:-//SNAP Financial Access - ECPv6.14.0//NONSGML v1.0//EN
CALSCALE:GREGORIAN
METHOD:PUBLISH
X-ORIGINAL-URL:https://snapfinancialaccess.org
X-WR-CALDESC:Events for SNAP Financial Access
REFRESH-INTERVAL;VALUE=DURATION:PT1H
X-Robots-Tag:noindex
X-PUBLISHED-TTL:PT1H
BEGIN:VTIMEZONE
TZID:America/Los_Angeles
BEGIN:DAYLIGHT
TZOFFSETFROM:-0800
TZOFFSETTO:-0700
TZNAME:PDT
DTSTART:20240310T100000
END:DAYLIGHT
BEGIN:STANDARD
TZOFFSETFROM:-0700
TZOFFSETTO:-0800
TZNAME:PST
DTSTART:20241103T090000
END:STANDARD
END:VTIMEZONE
BEGIN:VEVENT
DTSTART;TZID=America/Los_Angeles:20240903T090000
DTEND;TZID=America/Los_Angeles:20240903T110000
DTSTAMP:20260424T155225
CREATED:20240725T162859Z
LAST-MODIFIED:20240725T163030Z
UID:10000532-1725354000-1725361200@snapfinancialaccess.org
SUMMARY:Your Business Journey: Get Started!
DESCRIPTION:Learn how the WBC supports small business\, basics of a business plan\, business licensing steps\, and other local resources available to you\n\n\nAre you thinking about starting a business? Are you looking for ways to grow your business or seeking financing? This is the workshop for you! \nYou will learn about the business support services available through the Women’s Business Center\, how to create an effective business plan\, where to find market research to support your plan\, the importance of developing a cash flow projection\, and more. \nOne-on-One business counseling and additional classes are only available after completion of the Get Started class. \nRegistration is required. \n*We encourage all low-income applicants to contact our team regarding discounted class rates. ross@snapwa.org or hansen@snapwa.org \nWant to explore and learn more about your business plan? Check out this resource from the U.S. Small Business Administration https://www.sba.gov/business-guide/plan-your-business/write-your-business-plan \n**Reasonable accommodations for persons with disabilities will be made if requested at least two weeks in advance. Contact Nicolle Hansen by hansen@snapwa.org or by phone at 509-456-7627 ext. 4119. If you do not receive a response within 24 hours please call 509-456-7627 ext. 4100.
URL:https://snapfinancialaccess.org/events/your-business-journey-get-started-21/
ATTACH;FMTTYPE=image/jpeg:https://snapfinancialaccess.org/wp-content/uploads/2024/07/784d527755e447e2c17837e145b964a4-AHQxCk.tmp_.jpg
END:VEVENT
BEGIN:VEVENT
DTSTART;TZID=America/Los_Angeles:20240921T090000
DTEND;TZID=America/Los_Angeles:20240921T140000
DTSTAMP:20260424T155225
CREATED:20240910T212213Z
LAST-MODIFIED:20240910T212213Z
UID:10000534-1726909200-1726927200@snapfinancialaccess.org
SUMMARY:Homebuyer Education - * In Person at Moran Prairie Library *
DESCRIPTION:In Homebuyer Education\, you will learn the home purchase process and obtain information on a variety of special programs available to assist first-time buyers. \nDate: Saturday\, September 21\, 2024\nTime: 9:00AM-2:00PM\nLocation: Moran Prairie Library\nAddress: 6004 S. Regal St.\, Spokane\, WA 99223\nNote: Lunch is provided. \nPlease click here to register in advance. \n\nSNAP Housing Counseling programs promote home ownership in the community and assist home buyers in the steps towards home ownership. \n\nTranslation service is not available\, please provide your own translator if needed. No childcare provided. No children under 12 yrs.
URL:https://snapfinancialaccess.org/events/homebuyer-education-in-person-at-moran-prairie-library-4/
LOCATION:Moran Prairie Library\, 6004 S Regal St\, Spokane\, WA\, 99223\, United States
END:VEVENT
END:VCALENDAR