BEGIN:VCALENDAR
VERSION:2.0
PRODID:-//SNAP Financial Access - ECPv6.14.0//NONSGML v1.0//EN
CALSCALE:GREGORIAN
METHOD:PUBLISH
X-WR-CALNAME:SNAP Financial Access
X-ORIGINAL-URL:https://snapfinancialaccess.org
X-WR-CALDESC:Events for SNAP Financial Access
REFRESH-INTERVAL;VALUE=DURATION:PT1H
X-Robots-Tag:noindex
X-PUBLISHED-TTL:PT1H
BEGIN:VTIMEZONE
TZID:America/Los_Angeles
BEGIN:DAYLIGHT
TZOFFSETFROM:-0800
TZOFFSETTO:-0700
TZNAME:PDT
DTSTART:20240310T100000
END:DAYLIGHT
BEGIN:STANDARD
TZOFFSETFROM:-0700
TZOFFSETTO:-0800
TZNAME:PST
DTSTART:20241103T090000
END:STANDARD
END:VTIMEZONE
BEGIN:VEVENT
DTSTART;TZID=America/Los_Angeles:20240507T140000
DTEND;TZID=America/Los_Angeles:20240507T160000
DTSTAMP:20260424T212105
CREATED:20240416T184643Z
LAST-MODIFIED:20240416T184643Z
UID:10000123-1715090400-1715097600@snapfinancialaccess.org
SUMMARY:Your Business Journey: Get Started!
DESCRIPTION:Learn how the WBC supports small business\, basics of a business plan\, business licensing steps\, and other local resources available to you\n\n\nAre you thinking about starting a business? Are you looking for ways to grow your business or seeking financing? This is the workshop for you! \nYou will learn about the business support services available through the Women’s Business Center\, how to create an effective business plan\, where to find market research to support your plan\, the importance of developing a cash flow projection\, and more. \nOne-on-One business counseling and additional classes are only available after completion of the Get Started class. \nRegistration is required. \n*We encourage all low-income applicants to contact our team regarding discounted class rates. ross@snapwa.org or hansen@snapwa.org \nWant to explore and learn more about your business plan? Check out this resource from the U.S. Small Business Administration https://www.sba.gov/business-guide/plan-your-business/write-your-business-plan \n**Reasonable accommodations for persons with disabilities will be made if requested at least two weeks in advance. Contact Nicolle Hansen by hansen@snapwa.org or by phone at 509-456-7627 ext. 4119. If you do not receive a response within 24 hours please call 509-456-7627 ext. 4100. \nFunding provided by the Washington State Microenterprise Association (WSMA) thanks to a grant made by the Washington State Department of Commerce.
URL:https://snapfinancialaccess.org/events/your-business-journey-get-started-14/
ATTACH;FMTTYPE=image/jpeg:https://snapfinancialaccess.org/wp-content/uploads/2024/04/c058e33f48bfdefc7e44edf3dbf054ed-3mnAJ2.tmp_.jpg
END:VEVENT
BEGIN:VEVENT
DTSTART;TZID=America/Los_Angeles:20240509T140000
DTEND;TZID=America/Los_Angeles:20240509T160000
DTSTAMP:20260424T212105
CREATED:20240419T232006Z
LAST-MODIFIED:20240419T232006Z
UID:10000135-1715263200-1715270400@snapfinancialaccess.org
SUMMARY:Meet Your Business Resources: Tips and Tools for Business Owners
DESCRIPTION:Learn about community resources available to support your small business. Coaching\, Mentoring\, and so much more.\n\n\nMeet Your Business Resources \nRegister: Eventbrite \nWhen: Thursday May 9\, 2024 2pm-4:00 p.m. Spokane Valley Library\, 22 N. Herald Road\, Spokane Valley\, WA 99206 \nOwning and running a business is one of the most exciting and challenging experiences for entrepreneurs. If you own your own business\, you are an entrepreneur! As a business owner\, you have to know everything from accounting and marketing to human resources and how to scale the business for growth. Often business owners are not sure where to turn or who to ask for business expertise. \nThe good news is that there are expert resources\, technical assistance and organizations available locally and statewide ready to help. The resources available are relevant for new entrepreneurs and experienced business owners alike. \nJoin us for this one-hour webinar and hear from the SNAP Financial Access Women’s Business Center\, SBDC\, SCORE\, Greater Spokane Valley Chamber\, and Small Business Administration experts who have the knowledge\, people and resources available to help you and your business grow. Every business is unique. These experts know that your business\, no matter the size or sector\, may need a more tailored approach and they can help with that too. \nThis webinar is free to attend in person or virtually. If you are in the Spokane area\, we encourage you to attend in person. The session will be offered via Zoom as well. Pre-registration is required. The session will be moderated by Susan Joseph Nielsen from the City of Spokane Valley Economic Development Department.
URL:https://snapfinancialaccess.org/events/meet-your-business-resources-tips-and-tools-for-business-owners-2/
LOCATION:Spokane Valley Library\, 22 North Herald Road\, Spokane Valley\, WA\, 99206\, United States
ATTACH;FMTTYPE=image/jpeg:https://snapfinancialaccess.org/wp-content/uploads/2024/04/05d2267154b38f3c1bdd9901b27633c9-XrfUEt.tmp_.jpg
END:VEVENT
BEGIN:VEVENT
DTSTART;TZID=America/Los_Angeles:20240511T090000
DTEND;TZID=America/Los_Angeles:20240511T140000
DTSTAMP:20260424T212105
CREATED:20240425T225206Z
LAST-MODIFIED:20240425T225206Z
UID:10000142-1715418000-1715436000@snapfinancialaccess.org
SUMMARY:Homebuyer Education - * In Person at Moran Prairie Library *
DESCRIPTION:In Homebuyer Education\, you will learn the home purchase process and obtain information on a variety of special programs available to assist first-time buyers. \nDate: Saturday\, May 11\, 2024\nTime: 9:00AM-2:00PM\nLocation: Moran Prairie Library\nAddress: 6004 S. Regal St.\, Spokane\, WA 99223\nNote: Lunch is provided. \nPlease click here to register in advance. \n\nSNAP Housing Counseling programs promote home ownership in the community and assist home buyers in the steps towards home ownership. \n\nTranslation service is not available\, please provide your own translator if needed. No childcare provided. No children under 12 yrs.
URL:https://snapfinancialaccess.org/events/homebuyer-education-in-person-at-moran-prairie-library/
LOCATION:Moran Prairie Library\, 6004 S Regal St\, Spokane\, WA\, 99223\, United States
END:VEVENT
BEGIN:VEVENT
DTSTART;TZID=America/Los_Angeles:20240521T140000
DTEND;TZID=America/Los_Angeles:20240521T160000
DTSTAMP:20260424T212105
CREATED:20240419T232715Z
LAST-MODIFIED:20240510T233151Z
UID:10000136-1716300000-1716307200@snapfinancialaccess.org
SUMMARY:Your Business Journey: Get Started!
DESCRIPTION:Learn how the WBC supports small business\, basics of a business plan\, business licensing steps\, and other local resources available to you\n\n\nAre you thinking about starting a business? Are you looking for ways to grow your business or seeking financing? This is the workshop for you! \nYou will learn about the business support services available through the Women’s Business Center\, how to create an effective business plan\, where to find market research to support your plan\, the importance of developing a cash flow projection\, and more. \nOne-on-One business counseling and additional classes are only available after completion of the Get Started class. \nRegistration is required. \n*We encourage all low-income applicants to contact our team regarding discounted class rates. ross@snapwa.org or hansen@snapwa.org \nWant to explore and learn more about your business plan? Check out this resource from the U.S. Small Business Administration https://www.sba.gov/business-guide/plan-your-business/write-your-business-plan \n**Reasonable accommodations for persons with disabilities will be made if requested at least two weeks in advance. Contact Nicolle Hansen by hansen@snapwa.org or by phone at 509-456-7627 ext. 4119. If you do not receive a response within 24 hours please call 509-456-7627 ext. 4100. \nFunding provided by the Washington State Microenterprise Association (WSMA) thanks to a grant made by the Washington State Department of Commerce.
URL:https://snapfinancialaccess.org/events/your-business-journey-get-started-15/
ATTACH;FMTTYPE=image/jpeg:https://snapfinancialaccess.org/wp-content/uploads/2024/04/c058e33f48bfdefc7e44edf3dbf054ed-3mnAJ2.tmp_.jpg
END:VEVENT
BEGIN:VEVENT
DTSTART;TZID=America/Los_Angeles:20240522T180000
DTEND;TZID=America/Los_Angeles:20240522T203000
DTSTAMP:20260424T212105
CREATED:20240425T230820Z
LAST-MODIFIED:20240425T231259Z
UID:10000143-1716400800-1716409800@snapfinancialaccess.org
SUMMARY:Homebuyer Education *In-Person at Argonne Library*
DESCRIPTION:In Homebuyer Education\, you will learn the home purchase process and obtain information on a variety of special programs available to assist first-time buyers. \nDate: Wednesday\, May 22\, 2024 and Thursday\, May 23\, 2024\nTime: 6:00PM -8:30PM\nLocation: Argonne Library\nAddress: 4322 N Argonne Rd\, Spokane\, WA 99212\nNote: MUST attend both evenings to receive a certificate. \nPlease click here to register in advance. \n\nSNAP Housing Counseling programs promote home ownership in the community and assist home buyers in the steps towards home ownership. \n\nTranslation service is not available\, please provide your own translator if needed. No childcare provided. No children under 12 yrs.
URL:https://snapfinancialaccess.org/events/homebuyer-education-in-person-at-argonne-library-2/2024-05-22/
END:VEVENT
BEGIN:VEVENT
DTSTART;TZID=America/Los_Angeles:20240523T180000
DTEND;TZID=America/Los_Angeles:20240523T203000
DTSTAMP:20260424T212105
CREATED:20240425T230820Z
LAST-MODIFIED:20240425T231259Z
UID:10000144-1716487200-1716496200@snapfinancialaccess.org
SUMMARY:Homebuyer Education *In-Person at Argonne Library*
DESCRIPTION:In Homebuyer Education\, you will learn the home purchase process and obtain information on a variety of special programs available to assist first-time buyers. \nDate: Wednesday\, May 22\, 2024 and Thursday\, May 23\, 2024\nTime: 6:00PM -8:30PM\nLocation: Argonne Library\nAddress: 4322 N Argonne Rd\, Spokane\, WA 99212\nNote: MUST attend both evenings to receive a certificate. \nPlease click here to register in advance. \n\nSNAP Housing Counseling programs promote home ownership in the community and assist home buyers in the steps towards home ownership. \n\nTranslation service is not available\, please provide your own translator if needed. No childcare provided. No children under 12 yrs.
URL:https://snapfinancialaccess.org/events/homebuyer-education-in-person-at-argonne-library-2/2024-05-23/
END:VEVENT
BEGIN:VEVENT
DTSTART;TZID=America/Los_Angeles:20240528T110000
DTEND;TZID=America/Los_Angeles:20240528T130000
DTSTAMP:20260424T212105
CREATED:20240510T234220Z
LAST-MODIFIED:20240510T234220Z
UID:10000511-1716894000-1716901200@snapfinancialaccess.org
SUMMARY:Your Business Journey: Funding Your Business
DESCRIPTION:We know you have heard about them: Grants\, Loans\, Investors and Crowdfunding. Register to learn about the world of funding for your business\n\n\nAre you looking for funding to start or grow your business? This is the workshop for you! \nIn this workshop we will review the various types of funding available\, myths and truths\, and take a deep dive into the Five C’s of lending and how the lender uses these items to determine approval or denial of your loan request. We will also discuss the importance of a clear business plan and financial projections and how these two documents tie together. You will leave this workshop with a solid understanding of funding options\, what a lender uses to measure your application\, and how to be prepared for this critical step in the development of your business. \nOne-on-One business counseling is available after completion of this class. \nRegistration is required. \n*We encourage all low-income applicants to contact us regarding discounted class rates. ross@snapwa.org \nWant to explore and learn more about your business plan? Check out this resource from the U.S. Small Business Administration https://www.sba.gov/business-guide/plan-your-business/write-your-business-plan \n**Reasonable accommodations for persons with disabilities will be made if requested at least two weeks in advance. Contact Nicolle Hansen by hansen@snapwa.org or by phone at 509-456-7627 ext. 4119. If you do not receive a response within 24 hours please call 509-456-7627 ext. 4100. \nFunding provided by the Washington State Microenterprise Association (WSMA) thanks to a grant made by the Washington State Department of Commerce.
URL:https://snapfinancialaccess.org/events/your-business-journey-funding-your-business-6/
ATTACH;FMTTYPE=image/jpeg:https://snapfinancialaccess.org/wp-content/uploads/2024/04/1091921c17d3e2db379f4530c9b24ec7-f77JPn.tmp_.jpg
END:VEVENT
END:VCALENDAR