BEGIN:VCALENDAR
VERSION:2.0
PRODID:-//SNAP Financial Access - ECPv6.14.0//NONSGML v1.0//EN
CALSCALE:GREGORIAN
METHOD:PUBLISH
X-ORIGINAL-URL:https://snapfinancialaccess.org
X-WR-CALDESC:Events for SNAP Financial Access
REFRESH-INTERVAL;VALUE=DURATION:PT1H
X-Robots-Tag:noindex
X-PUBLISHED-TTL:PT1H
BEGIN:VTIMEZONE
TZID:America/Los_Angeles
BEGIN:DAYLIGHT
TZOFFSETFROM:-0800
TZOFFSETTO:-0700
TZNAME:PDT
DTSTART:20230312T100000
END:DAYLIGHT
BEGIN:STANDARD
TZOFFSETFROM:-0700
TZOFFSETTO:-0800
TZNAME:PST
DTSTART:20231105T090000
END:STANDARD
END:VTIMEZONE
BEGIN:VEVENT
DTSTART;TZID=America/Los_Angeles:20231207T150000
DTEND;TZID=America/Los_Angeles:20231207T170000
DTSTAMP:20260425T043023
CREATED:20231102T232421Z
LAST-MODIFIED:20231102T232421Z
UID:10000120-1701961200-1701968400@snapfinancialaccess.org
SUMMARY:Your Business Journey: Get Started!
DESCRIPTION:Learn how the WBC supports small business\, basics of a business plan\, business licensing steps\, and other local resources available to you\n\n\nAre you thinking about starting a business? Are you looking for ways to grow your business or seeking financing? This is the workshop for you! \nYou will learn about the business support services available through the Women’s Business Center\, how to create an effective business plan\, where to find market research to support your plan\, the importance of developing a cash flow projection\, and more. \nOne-on-One business counseling and additional classes are only available after completion of the Get Started class. \nRegistration is required. \n*We encourage all low-income applicants to contact our team regarding discounted class rates. ross@snapwa.org or hansen@snapwa.org \nWant to explore and learn more about your business plan? Check out this resource from the U.S. Small Business Administration https://www.sba.gov/business-guide/plan-your-business/write-your-business-plan \n**Reasonable accommodations for persons with disabilities will be made if requested at least two weeks in advance. Contact Nicolle Hansen by hansen@snapwa.org or by phone at 509-456-7627 ext. 4119. If you do not receive a response within 24 hours please call 509-456-7627 ext. 4100.
URL:https://snapfinancialaccess.org/events/your-business-journey-get-started-13/
LOCATION:Spokane Valley Library\, 22 North Herald Road\, Spokane Valley\, WA\, 99206\, United States
ATTACH;FMTTYPE=image/jpeg:https://snapfinancialaccess.org/wp-content/uploads/2023/11/cc1f52fa689a3b276d6e490e54bcb94d-JqjMG4.tmp_.jpg
END:VEVENT
END:VCALENDAR