BEGIN:VCALENDAR
VERSION:2.0
PRODID:-//SNAP Financial Access - ECPv6.14.0//NONSGML v1.0//EN
CALSCALE:GREGORIAN
METHOD:PUBLISH
X-WR-CALNAME:SNAP Financial Access
X-ORIGINAL-URL:https://snapfinancialaccess.org
X-WR-CALDESC:Events for SNAP Financial Access
REFRESH-INTERVAL;VALUE=DURATION:PT1H
X-Robots-Tag:noindex
X-PUBLISHED-TTL:PT1H
BEGIN:VTIMEZONE
TZID:America/Los_Angeles
BEGIN:DAYLIGHT
TZOFFSETFROM:-0800
TZOFFSETTO:-0700
TZNAME:PDT
DTSTART:20230312T100000
END:DAYLIGHT
BEGIN:STANDARD
TZOFFSETFROM:-0700
TZOFFSETTO:-0800
TZNAME:PST
DTSTART:20231105T090000
END:STANDARD
END:VTIMEZONE
BEGIN:VEVENT
DTSTART;TZID=America/Los_Angeles:20230908T130000
DTEND;TZID=America/Los_Angeles:20230908T140000
DTSTAMP:20260425T084238
CREATED:20230901T215313Z
LAST-MODIFIED:20230901T233010Z
UID:10000109-1694178000-1694181600@snapfinancialaccess.org
SUMMARY:Demystifying Payment Processing for Small Business
DESCRIPTION:This workshop will give you a picture of what happens behind the scenes  of card processing and how these options can benefit your business.
URL:https://snapfinancialaccess.org/events/demystifying-payment-processing-for-small-business/
ATTACH;FMTTYPE=image/jpeg:https://snapfinancialaccess.org/wp-content/uploads/2023/09/2a5157eb2f1fa118fd4a86badde3012c-zYTC1n.tmp_-e1693610980900.jpg
END:VEVENT
BEGIN:VEVENT
DTSTART;TZID=America/Los_Angeles:20230913T134500
DTEND;TZID=America/Los_Angeles:20230913T160000
DTSTAMP:20260425T084238
CREATED:20230901T215247Z
LAST-MODIFIED:20230901T215247Z
UID:10000108-1694612700-1694620800@snapfinancialaccess.org
SUMMARY:Financial Statements Unlocked
DESCRIPTION:Register today and take control of your business financials! Learn how to read and understand your financial statements to maximize profit.\n\n\nFinancial Statements Unlocked\nDo you want more control of your business profitability? Wondering why Income Statements or Balance Sheets are required to apply for a business loan? \nIn this workshop we help to demystify accounting statements. We take those intimidating accounting terms and break them down so they are easy to understand. During class we review the basics of profit and loss\, balance sheet terminology\, sales and expenses\, and help you feel more confident in planning for your business.  \nThis information will also help you to prepare to apply for a business loan and put some power back in your hands so you can steer your business to greater profitability.  \nCome as you are (no prior experience necessary) and bring all of your questions! \nOne-on-One business counseling and additional classes are only available after completion of the Get Started class. \nRegistration is required. \n*We encourage all low-income applicants to contact our team regarding discounted class rates. ross@snapwa.org or biviano@snapwa.org \nWant to explore and learn more about your business plan? Check out this resource from the U.S. Small Business Administration https://www.sba.gov/business-guide/plan-your-business/write-your-business-plan \n**Reasonable accommodations for persons with disabilities will be made if requested at least two weeks in advance. Contact Nicolle Hansen by hansen@snapwa.org or by phone at 509-456-7627 ext. 4119. If you do not receive a response within 24 hours please call 509-456-7627 ext. 4100.
URL:https://snapfinancialaccess.org/events/financial-statements-unlocked-2/
LOCATION:Martin Luther King Jr. Community Center\, 500 S. Stone\, Spokane\, WA\, 99202\, United States
ATTACH;FMTTYPE=image/jpeg:https://snapfinancialaccess.org/wp-content/uploads/2023/09/729b207cef9510b65324c36d15de38c6-PKMKUb.tmp_.jpg
END:VEVENT
BEGIN:VEVENT
DTSTART;TZID=America/Los_Angeles:20230916T090000
DTEND;TZID=America/Los_Angeles:20230916T140000
DTSTAMP:20260425T084238
CREATED:20230817T232520Z
LAST-MODIFIED:20230824T224047Z
UID:10000089-1694854800-1694872800@snapfinancialaccess.org
SUMMARY:Homebuyer Education *In-Person at Argonne Library*
DESCRIPTION:In Homebuyer Education\, you will learn the home purchase process and obtain information on a variety of special programs available to assist first-time buyers. \nPlease click here to register in advance. \nLocation: Argonne Library\nAddress: 4322 N. Argonne Rd. Spokane\, WA 99212 \nSNAP Housing Counseling programs promote home ownership in the community and assist home buyers in the steps towards home ownership. \nTranslation service is not available\, please provide your own translator if needed. No childcare provided. No children under 12 yrs.
URL:https://snapfinancialaccess.org/events/homebuyer-education-in-person-at-argonne-library/2023-09-16/
END:VEVENT
BEGIN:VEVENT
DTSTART;TZID=America/Los_Angeles:20230920T140000
DTEND;TZID=America/Los_Angeles:20230920T160000
DTSTAMP:20260425T084238
CREATED:20221130T224552Z
LAST-MODIFIED:20230714T211929Z
UID:10000048-1695218400-1695225600@snapfinancialaccess.org
SUMMARY:Your Business Journey: Get Started!
DESCRIPTION:Learn what WBC INW does to support small business\, the business plan\, business formation options\, insurance and tips for bookkeeping.
URL:https://snapfinancialaccess.org/events/your-business-journey-get-started-11/
ATTACH;FMTTYPE=image/jpeg:https://snapfinancialaccess.org/wp-content/uploads/2022/11/c69794b4c2e9bc9b7d9f9e04d78e85f8-uxeug0.tmp_.jpg
END:VEVENT
BEGIN:VEVENT
DTSTART;TZID=America/Los_Angeles:20230923T100000
DTEND;TZID=America/Los_Angeles:20230923T150000
DTSTAMP:20260425T084238
CREATED:20230901T215339Z
LAST-MODIFIED:20230901T232745Z
UID:10000110-1695463200-1695481200@snapfinancialaccess.org
SUMMARY:2023 Entrepreneurial Summit - Hosted by The Women's Business Center
DESCRIPTION:Attention Entrepreneurs! Training and Resources provided by the Women’s Business Center & BizFair\, with Federal\, State and Local Agencies.\n\n\nJoin us and elevate your entrepreneurial skills. You will have a front row seat as the Women’s Business Center brings a broad range of resources to your finger tips. \nWhat to expect: \n\nKeynote Speaker Carolyn O’Neill – “Unleash Your Authentic Entrepreneur\,” Participants will embark on a condensed journey to explore the essence of authentic entrepreneurship. Through thought-provoking exercises and guided discussions\, attendees will gain insights into embracing their unique entrepreneurial identity and applying it to their ventures.\n\n\nLearning Sessions: Start Up Business Loans\, Business Taxes\, Legal Tips\, Stress Management for the Small Business Owner\, Unlocking Your Super Power\, Meet the Buyer with Apex Accelerator (formerly PTAC) and more!\n\n\nBizFair – The Washington State Business Resource Fair will be co-located with the WBC Entrepreneurial Summit. Visit with L&I\, Department of Commerce\, SCORE\, SBDC\, and more\n\nCome prepared to expand your knowledge\, learn new tools\, and network with other business owners. \n*Pre-registration is required for complementary lunch.
URL:https://snapfinancialaccess.org/events/2023-entrepreneurial-summit-hosted-by-the-womens-business-center/
LOCATION:Woman’s Club of Spokane\, 1428 West 9th Avenue\, Spokane\, WA\, 99204\, United States
ATTACH;FMTTYPE=image/jpeg:https://snapfinancialaccess.org/wp-content/uploads/2023/09/e1c8e6bf85492d846b1d15e6a8bde326-HFllOL.tmp_.jpg
END:VEVENT
END:VCALENDAR