BEGIN:VCALENDAR
VERSION:2.0
PRODID:-//SNAP Financial Access - ECPv6.14.0//NONSGML v1.0//EN
CALSCALE:GREGORIAN
METHOD:PUBLISH
X-ORIGINAL-URL:https://snapfinancialaccess.org
X-WR-CALDESC:Events for SNAP Financial Access
REFRESH-INTERVAL;VALUE=DURATION:PT1H
X-Robots-Tag:noindex
X-PUBLISHED-TTL:PT1H
BEGIN:VTIMEZONE
TZID:America/Los_Angeles
BEGIN:DAYLIGHT
TZOFFSETFROM:-0800
TZOFFSETTO:-0700
TZNAME:PDT
DTSTART:20230312T100000
END:DAYLIGHT
BEGIN:STANDARD
TZOFFSETFROM:-0700
TZOFFSETTO:-0800
TZNAME:PST
DTSTART:20231105T090000
END:STANDARD
END:VTIMEZONE
BEGIN:VEVENT
DTSTART;TZID=America/Los_Angeles:20230808T160000
DTEND;TZID=America/Los_Angeles:20230808T173000
DTSTAMP:20260425T100308
CREATED:20230714T212312Z
LAST-MODIFIED:20230714T212312Z
UID:10000082-1691510400-1691515800@snapfinancialaccess.org
SUMMARY:Basic Accounting Concepts
DESCRIPTION:Register today and learn basic accounting concepts so are ready to tackle your accounting and bookkeeping tasks.\n\n\nBasic Accounting Concepts\nAre you new to accounting and need to know more about the basics? What is double entry accounting and how do you make “balanced” entries?\nCome learn about the basic accounting functions in this class alongside your fellow small business owners!\nWe get it\, accounting can be a bit daunting. You might have some experience with basic accounting concepts or bookkeeping through life\, but when starting and managing a small business the stronger your ability to understand and use these concepts\, you make your business stronger! This workshop is here to help you better manage your small business accounting needs! \nExplore the concepts behind balance sheets\, income statements\, and how everything works together. Should you need one-on-one help with these accounting concepts and finding how these concepts work in your small business\, we are here for you. Please take this workshop first and then you can request a meeting with the instructor by email either Nicolle Hansen (hansen@snapwa.org) or Amy Biviano (Biviano@snapwa.org) \nCome as you are (no prior experience necessary) and bring all of your questions! \nLearn more before taking this workshop: Manage your finances (sba.gov)  \nRegistration is required. \n*We encourage all low-income applicants to contact our team regarding discounted class rates. ross@snapwa.org or biviano@snapwa.org \n**Reasonable accommodations for persons with disabilities will be made if requested at least two weeks in advance. Contact Nicolle Hansen by hansen@snapwa.org or by phone at 509-456-7627 ext. 4119. If you do not receive a response within 24 hours please call 509-456-7627 ext. 4100.
URL:https://snapfinancialaccess.org/events/basic-accounting-concepts-2/
LOCATION:Spokane Valley Library\, 22 North Herald Road\, Spokane Valley\, WA\, 99206\, United States
ATTACH;FMTTYPE=image/jpeg:https://snapfinancialaccess.org/wp-content/uploads/2023/07/109e5d4ccb3a2ad298866c9542b20a4a-bettlH.tmp_.jpg
END:VEVENT
BEGIN:VEVENT
DTSTART;TZID=America/Los_Angeles:20230808T160000
DTEND;TZID=America/Los_Angeles:20230808T173000
DTSTAMP:20260425T100308
CREATED:20230715T005949Z
LAST-MODIFIED:20230715T005949Z
UID:10000083-1691510400-1691515800@snapfinancialaccess.org
SUMMARY:Basic Accounting Concepts
DESCRIPTION:
URL:https://snapfinancialaccess.org/events/basic-accounting-concepts-3/
END:VEVENT
BEGIN:VEVENT
DTSTART;TZID=America/Los_Angeles:20230812T090000
DTEND;TZID=America/Los_Angeles:20230812T140000
DTSTAMP:20260425T100308
CREATED:20230803T172327Z
LAST-MODIFIED:20230824T225158Z
UID:10000086-1691830800-1691848800@snapfinancialaccess.org
SUMMARY:Homebuyer Education *In-Person at NEW Spokane Valley Library*
DESCRIPTION:In Homebuyer Education\, you will learn the home purchase process and obtain information on a variety of special programs available to assist first-time buyers. \nPlease click here to register in advance. \nLocation: NEW Spokane Valley Library\nAddress: 22 N. Herald\, Spokane Valley\, WA 99206 \n\nSNAP Housing Counseling programs promote home ownership in the community and assist home buyers in the steps towards home ownership. \n\nTranslation service is not available\, please provide your own translator if needed. No childcare provided. No children under 12 yrs.
URL:https://snapfinancialaccess.org/events/homebuyer-education-in-person-at-new-spokane-valley-library-2/
END:VEVENT
BEGIN:VEVENT
DTSTART;TZID=America/Los_Angeles:20230817T080000
DTEND;TZID=America/Los_Angeles:20230817T170000
DTSTAMP:20260425T100308
CREATED:20230817T233338Z
LAST-MODIFIED:20230817T233338Z
UID:10000090-1692259200-1692291600@snapfinancialaccess.org
SUMMARY:Your Business Journey: Get Started! *In Person Workshop*
DESCRIPTION:
URL:https://snapfinancialaccess.org/events/your-business-journey-get-started-in-person-workshop-6/
END:VEVENT
BEGIN:VEVENT
DTSTART;TZID=America/Los_Angeles:20230823T140000
DTEND;TZID=America/Los_Angeles:20230823T160000
DTSTAMP:20260425T100308
CREATED:20221130T224549Z
LAST-MODIFIED:20230714T211926Z
UID:10000047-1692799200-1692806400@snapfinancialaccess.org
SUMMARY:Your Business Journey: Get Started!
DESCRIPTION:Learn what WBC INW does to support small business\, the business plan\, business formation options\, insurance and tips for bookkeeping.
URL:https://snapfinancialaccess.org/events/your-business-journey-get-started-10/
ATTACH;FMTTYPE=image/jpeg:https://snapfinancialaccess.org/wp-content/uploads/2022/11/c69794b4c2e9bc9b7d9f9e04d78e85f8-uxeug0.tmp_.jpg
END:VEVENT
BEGIN:VEVENT
DTSTART;TZID=America/Los_Angeles:20230823T180000
DTEND;TZID=America/Los_Angeles:20230823T203000
DTSTAMP:20260425T100308
CREATED:20230803T165000Z
LAST-MODIFIED:20230824T224601Z
UID:10000084-1692813600-1692822600@snapfinancialaccess.org
SUMMARY:Homebuyer Education *In-Person at North Spokane Library*
DESCRIPTION:In Homebuyer Education\, you will learn the home purchase process and obtain information on a variety of special programs available to assist first-time buyers. \nPlease click here to register in advance. \nLocation: North Spokane Library\nAddress: 44 E. Hawthorne Rd.\, Spokane\, WA 99218\nPlease Note: MUST attend both evenings to receive a certificate of participation. \n\nSNAP Housing Counseling programs promote home ownership in the community and assist home buyers in the steps towards home ownership. \n\nTranslation service is not available\, please provide your own translator if needed. No childcare provided. No children under 12 yrs.
URL:https://snapfinancialaccess.org/events/homebuyer-education-in-person-at-north-spokane-library-2/2023-08-23/
END:VEVENT
BEGIN:VEVENT
DTSTART;TZID=America/Los_Angeles:20230824T180000
DTEND;TZID=America/Los_Angeles:20230824T203000
DTSTAMP:20260425T100308
CREATED:20230803T165000Z
LAST-MODIFIED:20230824T224601Z
UID:10000095-1692900000-1692909000@snapfinancialaccess.org
SUMMARY:Homebuyer Education *In-Person at North Spokane Library*
DESCRIPTION:In Homebuyer Education\, you will learn the home purchase process and obtain information on a variety of special programs available to assist first-time buyers. \nPlease click here to register in advance. \nLocation: North Spokane Library\nAddress: 44 E. Hawthorne Rd.\, Spokane\, WA 99218\nPlease Note: MUST attend both evenings to receive a certificate of participation. \n\nSNAP Housing Counseling programs promote home ownership in the community and assist home buyers in the steps towards home ownership. \n\nTranslation service is not available\, please provide your own translator if needed. No childcare provided. No children under 12 yrs.
URL:https://snapfinancialaccess.org/events/homebuyer-education-in-person-at-north-spokane-library-2/2023-08-24/
END:VEVENT
END:VCALENDAR