BEGIN:VCALENDAR
VERSION:2.0
PRODID:-//SNAP Financial Access - ECPv6.14.0//NONSGML v1.0//EN
CALSCALE:GREGORIAN
METHOD:PUBLISH
X-ORIGINAL-URL:https://snapfinancialaccess.org
X-WR-CALDESC:Events for SNAP Financial Access
REFRESH-INTERVAL;VALUE=DURATION:PT1H
X-Robots-Tag:noindex
X-PUBLISHED-TTL:PT1H
BEGIN:VTIMEZONE
TZID:America/Los_Angeles
BEGIN:DAYLIGHT
TZOFFSETFROM:-0800
TZOFFSETTO:-0700
TZNAME:PDT
DTSTART:20230312T100000
END:DAYLIGHT
BEGIN:STANDARD
TZOFFSETFROM:-0700
TZOFFSETTO:-0800
TZNAME:PST
DTSTART:20231105T090000
END:STANDARD
END:VTIMEZONE
BEGIN:VEVENT
DTSTART;TZID=America/Los_Angeles:20230708T090000
DTEND;TZID=America/Los_Angeles:20230708T140000
DTSTAMP:20260425T112525
CREATED:20230428T202144Z
LAST-MODIFIED:20230824T230104Z
UID:10000077-1688806800-1688824800@snapfinancialaccess.org
SUMMARY:Homebuyer Education *In-Person at North Spokane Library*
DESCRIPTION:In Homebuyer Education\, you will learn the home purchase process and obtain information on a variety of special programs available to assist first-time buyers. \nPlease click here to register in advance. \nLocation: North Spokane Library\nAddress: 44 E. Hawthorne Rd.\, Spokane\, WA 99218 \n\nSNAP Housing Counseling programs promote home ownership in the community and assist home buyers in the steps towards home ownership. \n\nTranslation service is not available\, please provide your own translator if needed. No childcare provided. No children under 12 yrs.
URL:https://snapfinancialaccess.org/events/homebuyer-education-in-person-at-north-spokane-library/2023-07-08/
END:VEVENT
BEGIN:VEVENT
DTSTART;TZID=America/Los_Angeles:20230719T080000
DTEND;TZID=America/Los_Angeles:20230719T170000
DTSTAMP:20260425T112525
CREATED:20230428T203928Z
LAST-MODIFIED:20230824T225317Z
UID:10000078-1689753600-1689786000@snapfinancialaccess.org
SUMMARY:Homebuyer Education *In-Person at NEW Spokane Valley Library*
DESCRIPTION:In Homebuyer Education\, you will learn the home purchase process and obtain information on a variety of special programs available to assist first-time buyers. \nPlease click here to register in advance. \nLocation: *NEW* Spokane Valley Library\nAddress: 22 N. Herald St. Spokane Valley\, WA 99206 \n\nSNAP Housing Counseling programs promote home ownership in the community and assist home buyers in the steps towards home ownership. \n\nTranslation service is not available\, please provide your own translator if needed. No childcare provided. No children under 12 yrs.
URL:https://snapfinancialaccess.org/events/homebuyer-education-in-person-at-new-spokane-valley-library/2023-07-19/
END:VEVENT
BEGIN:VEVENT
DTSTART;TZID=America/Los_Angeles:20230719T140000
DTEND;TZID=America/Los_Angeles:20230719T160000
DTSTAMP:20260425T112525
CREATED:20221130T224546Z
LAST-MODIFIED:20230110T233203Z
UID:10000046-1689775200-1689782400@snapfinancialaccess.org
SUMMARY:Your Business Journey: Get Started!
DESCRIPTION:Learn what WBC INW does to support small business\, the business plan\, business formation options\, insurance and tips for bookkeeping.
URL:https://snapfinancialaccess.org/events/your-business-journey-get-started-9/
END:VEVENT
BEGIN:VEVENT
DTSTART;TZID=America/Los_Angeles:20230720T080000
DTEND;TZID=America/Los_Angeles:20230720T170000
DTSTAMP:20260425T112525
CREATED:20230428T203928Z
LAST-MODIFIED:20230824T225317Z
UID:10000079-1689840000-1689872400@snapfinancialaccess.org
SUMMARY:Homebuyer Education *In-Person at NEW Spokane Valley Library*
DESCRIPTION:In Homebuyer Education\, you will learn the home purchase process and obtain information on a variety of special programs available to assist first-time buyers. \nPlease click here to register in advance. \nLocation: *NEW* Spokane Valley Library\nAddress: 22 N. Herald St. Spokane Valley\, WA 99206 \n\nSNAP Housing Counseling programs promote home ownership in the community and assist home buyers in the steps towards home ownership. \n\nTranslation service is not available\, please provide your own translator if needed. No childcare provided. No children under 12 yrs.
URL:https://snapfinancialaccess.org/events/homebuyer-education-in-person-at-new-spokane-valley-library/2023-07-20/
END:VEVENT
END:VCALENDAR