BEGIN:VCALENDAR
VERSION:2.0
PRODID:-//SNAP Financial Access - ECPv6.14.0//NONSGML v1.0//EN
CALSCALE:GREGORIAN
METHOD:PUBLISH
X-WR-CALNAME:SNAP Financial Access
X-ORIGINAL-URL:https://snapfinancialaccess.org
X-WR-CALDESC:Events for SNAP Financial Access
REFRESH-INTERVAL;VALUE=DURATION:PT1H
X-Robots-Tag:noindex
X-PUBLISHED-TTL:PT1H
BEGIN:VTIMEZONE
TZID:America/Los_Angeles
BEGIN:DAYLIGHT
TZOFFSETFROM:-0800
TZOFFSETTO:-0700
TZNAME:PDT
DTSTART:20230312T100000
END:DAYLIGHT
BEGIN:STANDARD
TZOFFSETFROM:-0700
TZOFFSETTO:-0800
TZNAME:PST
DTSTART:20231105T090000
END:STANDARD
END:VTIMEZONE
BEGIN:VEVENT
DTSTART;TZID=America/Los_Angeles:20230505T100000
DTEND;TZID=America/Los_Angeles:20230505T120000
DTSTAMP:20260425T141124
CREATED:20221205T221456Z
LAST-MODIFIED:20230110T233308Z
UID:10000054-1683280800-1683288000@snapfinancialaccess.org
SUMMARY:Your Business Journey: Get Started! *In Person Workshop*
DESCRIPTION:Review considerations when starting a small business. This is an in person event in partnership with the Carl Maxey Center.
URL:https://snapfinancialaccess.org/events/your-business-journey-get-started-in-person-workshop-5/
LOCATION:Carl Maxey Center\, 3114 East 5th Avenue\, Spokane\, WA\, 99202\, United States
END:VEVENT
BEGIN:VEVENT
DTSTART;TZID=America/Los_Angeles:20230516T180000
DTEND;TZID=America/Los_Angeles:20230516T194000
DTSTAMP:20260425T141124
CREATED:20230216T231628Z
LAST-MODIFIED:20230824T223040Z
UID:10000060-1684260000-1684266000@snapfinancialaccess.org
SUMMARY:Homebuyer Education
DESCRIPTION:In Homebuyer Education\, you will learn the home purchase process and obtain information on a variety of special programs available to assist first-time buyers.\nThere are three parts in this series\, which runs three nights in a row from 6PM-7:40PM. You MUST attend all 3 nights to receive a certificate.\nSNAP Housing Counseling programs promote home ownership in the community and assist home buyers in the steps towards home ownership.\nTranslation service is not available\, please provide your own translator if needed. No childcare provided. No children under 12 yrs. \nPlease click here to register in advance.
URL:https://snapfinancialaccess.org/events/home-buyer-education-6/2023-05-16/
END:VEVENT
BEGIN:VEVENT
DTSTART;TZID=America/Los_Angeles:20230517T140000
DTEND;TZID=America/Los_Angeles:20230517T160000
DTSTAMP:20260425T141124
CREATED:20221130T224540Z
LAST-MODIFIED:20230110T233301Z
UID:10000044-1684332000-1684339200@snapfinancialaccess.org
SUMMARY:Your Business Journey: Get Started!
DESCRIPTION:Learn what WBC INW does to support small business\, the business plan\, business formation options\, insurance and tips for bookkeeping.
URL:https://snapfinancialaccess.org/events/your-business-journey-get-started-7/
END:VEVENT
BEGIN:VEVENT
DTSTART;TZID=America/Los_Angeles:20230517T180000
DTEND;TZID=America/Los_Angeles:20230517T194000
DTSTAMP:20260425T141124
CREATED:20230216T231628Z
LAST-MODIFIED:20230824T223040Z
UID:10000096-1684346400-1684352400@snapfinancialaccess.org
SUMMARY:Homebuyer Education
DESCRIPTION:In Homebuyer Education\, you will learn the home purchase process and obtain information on a variety of special programs available to assist first-time buyers.\nThere are three parts in this series\, which runs three nights in a row from 6PM-7:40PM. You MUST attend all 3 nights to receive a certificate.\nSNAP Housing Counseling programs promote home ownership in the community and assist home buyers in the steps towards home ownership.\nTranslation service is not available\, please provide your own translator if needed. No childcare provided. No children under 12 yrs. \nPlease click here to register in advance.
URL:https://snapfinancialaccess.org/events/home-buyer-education-6/2023-05-17/
END:VEVENT
BEGIN:VEVENT
DTSTART;TZID=America/Los_Angeles:20230518T180000
DTEND;TZID=America/Los_Angeles:20230518T194000
DTSTAMP:20260425T141124
CREATED:20230216T231628Z
LAST-MODIFIED:20230824T223040Z
UID:10000097-1684432800-1684438800@snapfinancialaccess.org
SUMMARY:Homebuyer Education
DESCRIPTION:In Homebuyer Education\, you will learn the home purchase process and obtain information on a variety of special programs available to assist first-time buyers.\nThere are three parts in this series\, which runs three nights in a row from 6PM-7:40PM. You MUST attend all 3 nights to receive a certificate.\nSNAP Housing Counseling programs promote home ownership in the community and assist home buyers in the steps towards home ownership.\nTranslation service is not available\, please provide your own translator if needed. No childcare provided. No children under 12 yrs. \nPlease click here to register in advance.
URL:https://snapfinancialaccess.org/events/home-buyer-education-6/2023-05-18/
END:VEVENT
END:VCALENDAR