BEGIN:VCALENDAR
VERSION:2.0
PRODID:-//SNAP Financial Access - ECPv6.14.0//NONSGML v1.0//EN
CALSCALE:GREGORIAN
METHOD:PUBLISH
X-WR-CALNAME:SNAP Financial Access
X-ORIGINAL-URL:https://snapfinancialaccess.org
X-WR-CALDESC:Events for SNAP Financial Access
REFRESH-INTERVAL;VALUE=DURATION:PT1H
X-Robots-Tag:noindex
X-PUBLISHED-TTL:PT1H
BEGIN:VTIMEZONE
TZID:America/Los_Angeles
BEGIN:DAYLIGHT
TZOFFSETFROM:-0800
TZOFFSETTO:-0700
TZNAME:PDT
DTSTART:20230312T100000
END:DAYLIGHT
BEGIN:STANDARD
TZOFFSETFROM:-0700
TZOFFSETTO:-0800
TZNAME:PST
DTSTART:20231105T090000
END:STANDARD
END:VTIMEZONE
BEGIN:VEVENT
DTSTART;TZID=America/Los_Angeles:20230106T100000
DTEND;TZID=America/Los_Angeles:20230106T120000
DTSTAMP:20260425T195627
CREATED:20221205T221440Z
LAST-MODIFIED:20230110T235217Z
UID:10000050-1672999200-1673006400@snapfinancialaccess.org
SUMMARY:Your Business Journey: Get Started! *In Person Workshop*
DESCRIPTION:Review considerations when starting a small business. This is an in person event in partnership with the Carl Maxey Center.
URL:https://snapfinancialaccess.org/events/your-business-journey-get-started-in-person-workshop/
LOCATION:Carl Maxey Center\, 3114 East 5th Avenue\, Spokane\, WA\, 99202\, United States
END:VEVENT
BEGIN:VEVENT
DTSTART;TZID=America/Los_Angeles:20230118T140000
DTEND;TZID=America/Los_Angeles:20230118T160000
DTSTAMP:20260425T195627
CREATED:20221130T224528Z
LAST-MODIFIED:20230110T235140Z
UID:10000040-1674050400-1674057600@snapfinancialaccess.org
SUMMARY:Your Business Journey: Get Started!
DESCRIPTION:Learn what WBC INW does to support small business\, the business plan\, business formation options\, insurance and tips for bookkeeping.
URL:https://snapfinancialaccess.org/events/your-business-journey-get-started-3/
END:VEVENT
END:VCALENDAR