BEGIN:VCALENDAR
VERSION:2.0
PRODID:-//SNAP Financial Access - ECPv6.14.0//NONSGML v1.0//EN
CALSCALE:GREGORIAN
METHOD:PUBLISH
X-WR-CALNAME:SNAP Financial Access
X-ORIGINAL-URL:https://snapfinancialaccess.org
X-WR-CALDESC:Events for SNAP Financial Access
REFRESH-INTERVAL;VALUE=DURATION:PT1H
X-Robots-Tag:noindex
X-PUBLISHED-TTL:PT1H
BEGIN:VTIMEZONE
TZID:America/Los_Angeles
BEGIN:DAYLIGHT
TZOFFSETFROM:-0800
TZOFFSETTO:-0700
TZNAME:PDT
DTSTART:20220313T100000
END:DAYLIGHT
BEGIN:STANDARD
TZOFFSETFROM:-0700
TZOFFSETTO:-0800
TZNAME:PST
DTSTART:20221106T090000
END:STANDARD
END:VTIMEZONE
BEGIN:VEVENT
DTSTART;TZID=America/Los_Angeles:20221213T094500
DTEND;TZID=America/Los_Angeles:20221213T120000
DTSTAMP:20260425T211723
CREATED:20221205T224241Z
LAST-MODIFIED:20230110T235321Z
UID:10000056-1670924700-1670932800@snapfinancialaccess.org
SUMMARY:Your Business Journey: Funding Your Business
DESCRIPTION:We know you have heard about them: Grants\, Loans\, Investors and Crowdfunding. Register to learn about the world of funding for your business\n\n\nAre you looking for funding to start or grow your business? This is the workshop for you! \nIn this workshop we will review the various types of funding available\, myths and truths\, and take a deep dive into the Five C’s of lending and how the lender uses these items to determine approval or denial of your loan request. We will also discuss the importance of a clear business plan and financial projections and how these two documents tie together. You will leave this workshop with a solid understanding of funding options\, what a lender uses to measure your application\, and how to be prepared for this critical step in the development of your business. \nOne-on-One business counseling is available after completion of this class. \nRegistration is required.  \n*We encourage all low-income applicants to contact us regarding discounted class rates. ross@snapwa.org \nWant to explore and learn more about your business plan? Check out this resource from the U.S. Small Business Administration https://www.sba.gov/business-guide/plan-your-business/write-your-business-plan \n**Reasonable accommodations for persons with disabilities will be made if requested at least two weeks in advance. Contact Nicolle Hansen by hansen@snapwa.org or by phone at 509-456-7627 ext. 4119. If you do not receive a response within 24 hours please call 509-456-7627 ext. 4100.
URL:https://snapfinancialaccess.org/events/your-business-journey-funding-your-business-2/
END:VEVENT
BEGIN:VEVENT
DTSTART;TZID=America/Los_Angeles:20221214T140000
DTEND;TZID=America/Los_Angeles:20221214T160000
DTSTAMP:20260425T211723
CREATED:20221205T221539Z
LAST-MODIFIED:20230110T235236Z
UID:10000055-1671026400-1671033600@snapfinancialaccess.org
SUMMARY:Accounting Basics - Accounting Statements Unlocked
DESCRIPTION:Register today and take control of your business financials! Learn how to read and understand your financial statements to maximize profit.\n\n\nAccounting Basics: “Accounting Statements Unlocked”\nDo you want more control of your business profitability? Wondering why Income Statements or Balance Sheets are required to apply for a business loan?\nIn this workshop we help to demystify accounting statements. We take those intimidating accounting terms and break them down so they are easy to understand. During class we review the basics of profit and loss\, balance sheet terminology\, sales and expenses\, and help you feel more confident in planning for your business. \nThis information will also help you to prepare to apply for a business loan and put some power back in your hands so you can steer your business to greater profitability. \nCome as you are (no prior experience necessary) and bring all of your questions! \nOne-on-One business counseling and additional classes are only available after completion of the Get Started class. \nRegistration is required. \n*We encourage all low-income applicants to contact our team regarding discounted class rates. ross@snapwa.org or biviano@snapwa.org \nWant to explore and learn more about your business plan? Check out this resource from the U.S. Small Business Administration https://www.sba.gov/business-guide/plan-your-business/write-your-business-plan \n**Reasonable accommodations for persons with disabilities will be made if requested at least two weeks in advance. Contact Nicolle Hansen by hansen@snapwa.org or by phone at 509-456-7627 ext. 4119. If you do not receive a response within 24 hours please call 509-456-7627 ext. 4100.
URL:https://snapfinancialaccess.org/events/accounting-basics-accounting-statements-unlocked/
LOCATION:Carl Maxey Center\, 3114 East 5th Avenue\, Spokane\, WA\, 99202\, United States
END:VEVENT
END:VCALENDAR