BEGIN:VCALENDAR
VERSION:2.0
PRODID:-//SNAP Financial Access - ECPv6.14.0//NONSGML v1.0//EN
CALSCALE:GREGORIAN
METHOD:PUBLISH
X-WR-CALNAME:SNAP Financial Access
X-ORIGINAL-URL:https://snapfinancialaccess.org
X-WR-CALDESC:Events for SNAP Financial Access
REFRESH-INTERVAL;VALUE=DURATION:PT1H
X-Robots-Tag:noindex
X-PUBLISHED-TTL:PT1H
BEGIN:VTIMEZONE
TZID:America/Los_Angeles
BEGIN:DAYLIGHT
TZOFFSETFROM:-0800
TZOFFSETTO:-0700
TZNAME:PDT
DTSTART:20220313T100000
END:DAYLIGHT
BEGIN:STANDARD
TZOFFSETFROM:-0700
TZOFFSETTO:-0800
TZNAME:PST
DTSTART:20221106T090000
END:STANDARD
END:VTIMEZONE
BEGIN:VEVENT
DTSTART;TZID=America/Los_Angeles:20220929T173000
DTEND;TZID=America/Los_Angeles:20220929T183000
DTSTAMP:20260425T171323
CREATED:20221104T200518Z
LAST-MODIFIED:20221108T235958Z
UID:10000004-1664472600-1664476200@snapfinancialaccess.org
SUMMARY:Small Business Accounting with Wave
DESCRIPTION:Are looking to sharpen your accounting knowledge\, or find a easy to use digital platform? Every entrepreneur should have a basic understanding of accounting and with this workshop you will learn just that! In this three-part workshop\, we cover some of the basics of accounting and pair those lessons with an accounting software called “Wave”. \nThis course will occur in three sessions:  \n\nSept. 29th 5:30pm to 6:30pm\nOct.6th 5:30pm to 6:30pm\nOct. 13th 5:30pm to 6:30pm\n\nSimilar to other online accounting software\, Wave is a system here to help you improve the quality of finances and help reduce the burden of business accounting! This course is lead my our friend Cathy from Gonzaga University. She will walk you through the set up of your Wave account\, how to enter information\, use quote and invoicing tools\, sync with your bank account\, and how to generate your sales reports\, financial statements and so much more. Register now to take control of your business finances. \nTips to prepare for the first session:  \n\nGmail or Outlook emails seem to work better than aol or yahoo\nReview Wave here.\nBe prepared to take notes\nLog in to Zoom 10 minutes before the start of class to avoid technical delays.
URL:https://snapfinancialaccess.org/events/small-business-accounting-with-wave-2/
LOCATION:WA
END:VEVENT
END:VCALENDAR